BEGIN:VCALENDAR
VERSION:2.0
PRODID:-//Wiss - ECPv6.15.20//NONSGML v1.0//EN
CALSCALE:GREGORIAN
METHOD:PUBLISH
X-ORIGINAL-URL:https://wiss.com
X-WR-CALDESC:Events for Wiss
REFRESH-INTERVAL;VALUE=DURATION:PT1H
X-Robots-Tag:noindex
X-PUBLISHED-TTL:PT1H
BEGIN:VTIMEZONE
TZID:America/New_York
BEGIN:DAYLIGHT
TZOFFSETFROM:-0500
TZOFFSETTO:-0400
TZNAME:EDT
DTSTART:20240310T070000
END:DAYLIGHT
BEGIN:STANDARD
TZOFFSETFROM:-0400
TZOFFSETTO:-0500
TZNAME:EST
DTSTART:20241103T060000
END:STANDARD
BEGIN:DAYLIGHT
TZOFFSETFROM:-0500
TZOFFSETTO:-0400
TZNAME:EDT
DTSTART:20250309T070000
END:DAYLIGHT
BEGIN:STANDARD
TZOFFSETFROM:-0400
TZOFFSETTO:-0500
TZNAME:EST
DTSTART:20251102T060000
END:STANDARD
BEGIN:DAYLIGHT
TZOFFSETFROM:-0500
TZOFFSETTO:-0400
TZNAME:EDT
DTSTART:20260308T070000
END:DAYLIGHT
BEGIN:STANDARD
TZOFFSETFROM:-0400
TZOFFSETTO:-0500
TZNAME:EST
DTSTART:20261101T060000
END:STANDARD
BEGIN:DAYLIGHT
TZOFFSETFROM:-0500
TZOFFSETTO:-0400
TZNAME:EDT
DTSTART:20270314T070000
END:DAYLIGHT
BEGIN:STANDARD
TZOFFSETFROM:-0400
TZOFFSETTO:-0500
TZNAME:EST
DTSTART:20271107T060000
END:STANDARD
END:VTIMEZONE
BEGIN:VEVENT
DTSTART;TZID=America/New_York:20260326T120000
DTEND;TZID=America/New_York:20260326T150000
DTSTAMP:20260421T183745
CREATED:20260305T164547Z
LAST-MODIFIED:20260305T164547Z
UID:10000104-1774526400-1774537200@wiss.com
SUMMARY:University of Scranton
DESCRIPTION:Spring 2026 Career Expo\n\n\n\nShare
URL:https://wiss.com/event/university-of-scranton-career-fair-2/
LOCATION:University of Scranton
ATTACH;FMTTYPE=image/png:https://wiss.com/wp-content/uploads/2025/08/9-16_University_Scranton.png
END:VEVENT
BEGIN:VEVENT
DTSTART;TZID=America/New_York:20260311T163000
DTEND;TZID=America/New_York:20260311T180000
DTSTAMP:20260421T183745
CREATED:20260305T163314Z
LAST-MODIFIED:20260305T163315Z
UID:10000100-1773246600-1773252000@wiss.com
SUMMARY:University of Scranton
DESCRIPTION:Wiss Presentation\n\n\n\nShare
URL:https://wiss.com/event/university-of-scranton-career-fair/
LOCATION:University of Scranton
ATTACH;FMTTYPE=image/png:https://wiss.com/wp-content/uploads/2025/08/9-16_University_Scranton.png
END:VEVENT
BEGIN:VEVENT
DTSTART;TZID=America/New_York:20250916T140000
DTEND;TZID=America/New_York:20250916T170000
DTSTAMP:20260421T183745
CREATED:20250806T152418Z
LAST-MODIFIED:20250806T160424Z
UID:10000073-1758031200-1758042000@wiss.com
SUMMARY:University of Scranton: Accounting Expo
DESCRIPTION:Accounting Expo \nShare
URL:https://wiss.com/event/university-of-scranton-accounting-expo/
LOCATION:University of Scranton
ATTACH;FMTTYPE=image/png:https://wiss.com/wp-content/uploads/2025/08/9-16_University_Scranton.png
END:VEVENT
END:VCALENDAR