BEGIN:VCALENDAR
VERSION:2.0
PRODID:-//Wiss - ECPv6.15.20//NONSGML v1.0//EN
CALSCALE:GREGORIAN
METHOD:PUBLISH
X-ORIGINAL-URL:https://wiss.com
X-WR-CALDESC:Events for Wiss
REFRESH-INTERVAL;VALUE=DURATION:PT1H
X-Robots-Tag:noindex
X-PUBLISHED-TTL:PT1H
BEGIN:VTIMEZONE
TZID:America/New_York
BEGIN:DAYLIGHT
TZOFFSETFROM:-0500
TZOFFSETTO:-0400
TZNAME:EDT
DTSTART:20240310T070000
END:DAYLIGHT
BEGIN:STANDARD
TZOFFSETFROM:-0400
TZOFFSETTO:-0500
TZNAME:EST
DTSTART:20241103T060000
END:STANDARD
BEGIN:DAYLIGHT
TZOFFSETFROM:-0500
TZOFFSETTO:-0400
TZNAME:EDT
DTSTART:20250309T070000
END:DAYLIGHT
BEGIN:STANDARD
TZOFFSETFROM:-0400
TZOFFSETTO:-0500
TZNAME:EST
DTSTART:20251102T060000
END:STANDARD
BEGIN:DAYLIGHT
TZOFFSETFROM:-0500
TZOFFSETTO:-0400
TZNAME:EDT
DTSTART:20260308T070000
END:DAYLIGHT
BEGIN:STANDARD
TZOFFSETFROM:-0400
TZOFFSETTO:-0500
TZNAME:EST
DTSTART:20261101T060000
END:STANDARD
END:VTIMEZONE
BEGIN:VEVENT
DTSTART;TZID=America/New_York:20250904T170000
DTEND;TZID=America/New_York:20250904T193000
DTSTAMP:20260422T145448
CREATED:20250806T141656Z
LAST-MODIFIED:20250806T161006Z
UID:10000064-1757005200-1757014200@wiss.com
SUMMARY:Villanova University: Accounting Fall Forum
DESCRIPTION:Accounting Fall Forum \nShare
URL:https://wiss.com/event/villanova-university-accounting-fall-forum/
LOCATION:Villanova University
ATTACH;FMTTYPE=image/png:https://wiss.com/wp-content/uploads/2025/08/9-4_Villanova.png
END:VEVENT
END:VCALENDAR